BEGIN:VCALENDAR
VERSION:2.0
PRODID:-//Rainbow Registered - ECPv6.15.20//NONSGML v1.0//EN
CALSCALE:GREGORIAN
METHOD:PUBLISH
X-ORIGINAL-URL:https://rainbowregistered.com
X-WR-CALDESC:Events for Rainbow Registered
REFRESH-INTERVAL;VALUE=DURATION:PT1H
X-Robots-Tag:noindex
X-PUBLISHED-TTL:PT1H
BEGIN:VTIMEZONE
TZID:America/Toronto
BEGIN:DAYLIGHT
TZOFFSETFROM:-0500
TZOFFSETTO:-0400
TZNAME:EDT
DTSTART:20250309T070000
END:DAYLIGHT
BEGIN:STANDARD
TZOFFSETFROM:-0400
TZOFFSETTO:-0500
TZNAME:EST
DTSTART:20251102T060000
END:STANDARD
BEGIN:DAYLIGHT
TZOFFSETFROM:-0500
TZOFFSETTO:-0400
TZNAME:EDT
DTSTART:20260308T070000
END:DAYLIGHT
BEGIN:STANDARD
TZOFFSETFROM:-0400
TZOFFSETTO:-0500
TZNAME:EST
DTSTART:20261101T060000
END:STANDARD
BEGIN:DAYLIGHT
TZOFFSETFROM:-0500
TZOFFSETTO:-0400
TZNAME:EDT
DTSTART:20270314T070000
END:DAYLIGHT
BEGIN:STANDARD
TZOFFSETFROM:-0400
TZOFFSETTO:-0500
TZNAME:EST
DTSTART:20271107T060000
END:STANDARD
END:VTIMEZONE
BEGIN:VEVENT
DTSTART;TZID=America/Toronto:20260514T130000
DTEND;TZID=America/Toronto:20260514T143000
DTSTAMP:20260425T230319
CREATED:20260424T163745Z
LAST-MODIFIED:20260424T173044Z
UID:10000073-1778763600-1778769000@rainbowregistered.com
SUMMARY:Module 2 - Rainbow Ready
DESCRIPTION:Inclusive Advantage\n\n\n\n\n\nThe Rainbow Ready Program is an initiative of the Rainbow Registered team at CQCC (formerly CGLCC). \n\n\n\nThis education program is aimed at fostering inclusivity and resilience in organizations and communities. The program is intended to provide training for both Rainbow Registered members and interesting parties across the country. \n\n\n\nThe Rainbow Ready Program is positioned to set a new standard for diversity and inclusion training\, with a focus on practical impact and measurable results. Completion of Module 1 is intended as an onboarding standard across relevant sectors\, (i.e. employees in tourism and culture). \n\n\n\nThe training consists of two modules: \n\n\n\n\nModule 1 – Rainbow Ready: Foundations (self-paced\, pre-requisite for Module 2)An interactive\, self-paced course designed to build foundational knowledge of 2SLGBTQ+ inclusion\, terminology\, and best practices. (register now if you have not completed this already: Rainbow Ready Registration / Inscription Modèle Arc-en-ciel)  \n\n\n\nModule 2 – Rainbow Ready: Inclusive Advantage (facilitated)A live\, online\, facilitated workshop that deepens understanding\, explores real-world scenarios\, and equips participants with actionable strategies for creating inclusive environments.\n\n\n\n\nPlease come prepared to participate – the group will be diving into scenarios and discussions.  \n\n\n\n\n\n\n\nBrianna Hammond (she/her)NKC\n\n\n\n\n\nChad Hammond (he/him; they/them)NKC
URL:https://rainbowregistered.com/event/module-2-rainbow-ready/
CATEGORIES:Rainbow Registered
ATTACH;FMTTYPE=image/jpeg:https://rainbowregistered.com/wp-content/uploads/sites/2/sites/8/2026/01/pronouns-alexander-grey-unsplash-scaled.jpg
END:VEVENT
BEGIN:VEVENT
DTSTART;TZID=America/Toronto:20260521T120000
DTEND;TZID=America/Toronto:20260521T133000
DTSTAMP:20260425T230319
CREATED:20260416T163425Z
LAST-MODIFIED:20260416T163428Z
UID:10000070-1779364800-1779370200@rainbowregistered.com
SUMMARY:Rainbow Registered Presents: GENDERCRAFT
DESCRIPTION:A Deeper Dive on Gender Identity & Gender Expression\n\n\n\n\n\nGender Expression Fundamentals \n\n\n\nThis module is primarily concerned with deepening understanding of the term “gender expression”. \n\n\n\nIt explores some of the myriad ways identity can be expressed\, and reviews real-life examples of gender expression being restricted\, both formally and informally. The module connects gender expression to other intersectional factors of identity. Gender Expression Fundamentals concludes with three small action items and a discussion of “personal inventory” as preparation for engaging in allyship.There will also be time for Q&A. \n\n\n\n\n\nEliot Newton (they|them)GENDERBANDIT\n\n\n\nSeries schedule:April 30\, 2026 – 1-2:30pm AST – Gender Identity FundamentalsMay 7\, 2026 – 1-2:30pm AST – Gender Identity ApplicationsMay 21 2026 – 1-2:30pm AST – Gender Expression FundamentalsMay 28\, 2026 – 1-2:30pm AST – Gender Expression Applications \n\n\n\nNote: facilitator is bilingual though facilitation will be primarily in EN
URL:https://rainbowregistered.com/event/rainbow-registered-presents-gendercraft-6/
CATEGORIES:Rainbow Registered
ATTACH;FMTTYPE=image/png:https://rainbowregistered.com/wp-content/uploads/sites/2/sites/8/2026/04/3.png
ORGANIZER;CN="Rainbow Registered":MAILTO:rainbowregistered@queerchamber.ca
END:VEVENT
BEGIN:VEVENT
DTSTART;TZID=America/Toronto:20260528T120000
DTEND;TZID=America/Toronto:20260528T133000
DTSTAMP:20260425T230319
CREATED:20260416T163032Z
LAST-MODIFIED:20260416T163248Z
UID:10000069-1779969600-1779975000@rainbowregistered.com
SUMMARY:Rainbow Registered Presents: GENDERCRAFT
DESCRIPTION:A Deeper Dive on Gender Identity & Gender Expression\n\n\n\n\n\nGender Expression Applications \n\n\n\nThis module begins with a review of best practices related to supporting people with diverse gender identities in three areas: personal support\, institutional practices\, and environmental experiences. \n\n\n\nFollowing this review\, there is a brief discussion of current political realities facing people with diverse gender identities\, composed of discussing international context and reviewing current Canadian issues. \n\n\n\nThe bulk of the module will be a discussion of four scenarios. Each participant will have time to discuss two scenarios in detail\, and review the other two scenarios as part of a debrief. Each scenario has proposed discussion questions\, and most scenarios also include suggested scripts for practice. \n\n\n\n\n\nEliot Newton (they|them)GENDERBANDIT\n\n\n\nSeries schedule:April 30\, 2026 – 1-2:30pm AST – Gender Identity FundamentalsMay 7\, 2026 – 1-2:30pm AST – Gender Identity ApplicationsMay 21 2026 – 1-2:30pm AST – Gender Expression FundamentalsMay 28\, 2026 – 1-2:30pm AST – Gender Expression Applications \n\n\n\nNote: facilitator is bilingual though facilitation will be primarily in EN
URL:https://rainbowregistered.com/event/rainbow-registered-presents-gendercraft-5/
CATEGORIES:Rainbow Registered
ATTACH;FMTTYPE=image/png:https://rainbowregistered.com/wp-content/uploads/sites/2/sites/8/2026/04/4.png
ORGANIZER;CN="Rainbow Registered":MAILTO:rainbowregistered@queerchamber.ca
END:VEVENT
END:VCALENDAR