BEGIN:VCALENDAR
VERSION:2.0
PRODID:-//Rainbow Registered - ECPv6.15.20//NONSGML v1.0//EN
CALSCALE:GREGORIAN
METHOD:PUBLISH
X-ORIGINAL-URL:https://rainbowregistered.com
X-WR-CALDESC:Events for Rainbow Registered
REFRESH-INTERVAL;VALUE=DURATION:PT1H
X-Robots-Tag:noindex
X-PUBLISHED-TTL:PT1H
BEGIN:VTIMEZONE
TZID:America/Vancouver
BEGIN:DAYLIGHT
TZOFFSETFROM:-0800
TZOFFSETTO:-0700
TZNAME:PDT
DTSTART:20220313T100000
END:DAYLIGHT
BEGIN:STANDARD
TZOFFSETFROM:-0700
TZOFFSETTO:-0800
TZNAME:PST
DTSTART:20221106T090000
END:STANDARD
BEGIN:DAYLIGHT
TZOFFSETFROM:-0800
TZOFFSETTO:-0700
TZNAME:PDT
DTSTART:20230312T100000
END:DAYLIGHT
BEGIN:STANDARD
TZOFFSETFROM:-0700
TZOFFSETTO:-0800
TZNAME:PST
DTSTART:20231105T090000
END:STANDARD
BEGIN:DAYLIGHT
TZOFFSETFROM:-0800
TZOFFSETTO:-0700
TZNAME:PDT
DTSTART:20240310T100000
END:DAYLIGHT
BEGIN:STANDARD
TZOFFSETFROM:-0700
TZOFFSETTO:-0800
TZNAME:PST
DTSTART:20241103T090000
END:STANDARD
END:VTIMEZONE
BEGIN:VEVENT
DTSTART;TZID=America/Vancouver:20231101T000000
DTEND;TZID=America/Vancouver:20231231T235900
DTSTAMP:20260425T023450
CREATED:20260106T194213Z
LAST-MODIFIED:20260106T194213Z
UID:10000038-1698796800-1704067140@rainbowregistered.com
SUMMARY:Rainbow Registered Open Office Hours (June 29th\, 2023) - Come Chat!
DESCRIPTION:Date: June 29\, 2023 3:00 pm – June 29\, 2023 5:00 pm EST \n\n\n\n\n\n\n\nAre you interested in pursuing the Rainbow Registered program or are you an accredited Rainbow Registered business that wants to: \n\n\n\n\ndiscuss how to maximize your accreditation\n\n\n\nreceive feedback on your current diversity & inclusion efforts\n\n\n\ndiscuss any questions or concerns you are experiencing related to Rainbow Registered and 2SLGBTQI+ inclusion\n\n\n\n\nThe Rainbow Registered program manager is holding open office hours on the last Thursday of each month to have an ongoing\, dedicated opportunity for businesses to drop in and chat with our team about whatever is on their mind.  \n\n\n\nDrop in anytime between 3 PM and 5 PM Eastern and let’s chat! \n\n\n\n\nRegister Here\n\n\n\n\nNot able to make it to the office hours or have an urgent question? Email us anytime at rainbowregistered@queerchamber.ca \, and our team is always happy to chat.
URL:https://rainbowregistered.com/event/rainbow-registered-open-office-hours-june-29th-2023-come-chat/
END:VEVENT
BEGIN:VEVENT
DTSTART;TZID=America/Vancouver:20231101T000000
DTEND;TZID=America/Vancouver:20231231T235900
DTSTAMP:20260425T023450
CREATED:20260106T194211Z
LAST-MODIFIED:20260106T194211Z
UID:10000037-1698796800-1704067140@rainbowregistered.com
SUMMARY:Rainbow Registered Open Office Hours (Sept 28th\, 2023) - Come Chat!
DESCRIPTION:Date: September 28\, 2023 3:00 pm – September 28\, 2023 5:00 pm EST \n\n\n\n\n\n\n\nAre you interested in pursuing the Rainbow Registered program or are you an accredited Rainbow Registered business that wants to: \n\n\n\n\ndiscuss how to maximize your accreditation \n\n\n\nreceive feedback on your current diversity & inclusion efforts \n\n\n\ndiscuss any questions or concerns you are experiencing related to Rainbow Registered and 2SLGBTQI+ inclusion? \n\n\n\n\nThe Rainbow Registered program manager is holding open office hours on the last Thursday of each month to have an ongoing\, dedicated opportunity for businesses to drop in and chat with our team about whatever is on their mind.  \n\n\n\nDrop in any time between 3 PM and 5 PM Eastern and let’s chat! \n\n\n\n\nRegister Here\n\n\n\n\nNot able to make it to the office hours or have an urgent question? Email us  at rainbowregistered@queerchamber.ca and our team is always happy to chat.
URL:https://rainbowregistered.com/event/rainbow-registered-open-office-hours-sept-28th-2023-come-chat/
CATEGORIES:Rainbow Registered
ATTACH;FMTTYPE=image/png:https://rainbowregistered.com/wp-content/uploads/sites/2/sites/8/2026/01/RR-Windowfront-1_rev-1-jZnslv.tmp_-2.png
END:VEVENT
BEGIN:VEVENT
DTSTART;TZID=America/Vancouver:20231101T000000
DTEND;TZID=America/Vancouver:20231231T235900
DTSTAMP:20260425T023450
CREATED:20260106T194208Z
LAST-MODIFIED:20260106T194208Z
UID:10000036-1698796800-1704067140@rainbowregistered.com
SUMMARY:Unleash the Power of LinkedIn with our Exclusive Masterclass!
DESCRIPTION:Date: August 9\, 2023 11:00 am – August 9\, 2023 12:00 pm EDT \n\n\n\nLocation: Online \n\n\n\n\n\n\n\nThe POKR MasterClass on LinkedIn is a powerful session dedicated to optimizing your LinkedIn profile\, learning strategies to connect with industry experts\, and the keys to building a strong professional network. You’ll learn strategies to engage with peers\, colleagues\, and future revenue partners. \n\n\n\nDon’t miss out on this unparalleled opportunity to revolutionize your LinkedIn presence and catapult your networking capabilities to unprecedented heights. Join our Masterclass now and unlock the limitless potential of LinkedIn! \n\n\n\n\nIntro – Personal Story – how did we grow\n\n\n\nWhy LinkedIn – budget\, personalization\, credibility\, validation\n\n\n\nUpdate your profile – call to action.\n\n\n\nGive Recommendations\n\n\n\nSample DM’s\n\n\n\nCadence  (business post\, article\, personal post\, videos\, etc.)\n\n\n\n Q&A\n\n\n\n\n\nRegister Now\n\n\n\n\n\n\n\n\nINTRODUCING WEBINAR WEDNESDAYS! \n\n\n\nJoin us every second Wednesday of the month for our exciting and informative recurring webinars\, where we dive into a world of knowledge and expertise. Explore a wide range of topics\, from industry trends and best practices to cutting-edge innovations and strategies that can elevate your professional journey. Our expert speakers will captivate you with their insights\, providing valuable tips\, practical advice\, and thought-provoking discussions.  \n\n\n\nWhether you’re just starting or looking to elevate your existing venture\, our webinar series offers a supportive and inclusive environment where you can connect with like-minded individuals\, expand your professional network\, and foster meaningful collaborations. Led by industry experts and successful 2SLGBTQI+ entrepreneurs\, these webinars delve into various aspects of entrepreneurship\, covering topics such as business development\, marketing and branding\, financial management\, networking\, and more. \n\n\n\nMark your calendar and join us on Wednesdays as we unlock new possibilities! \n\n\n\n\n\n\n\nYour Host\n\n\n\n\n\nDarren Thompson has over 16 years of experience with creating and sustaining sales\, marketing\, and business development plans. His passion is working with companies that create innovative technology and organizations that have a vested interest in making the world a more equitable and inclusive place for now and future generations. Darren has helped to build\, repair and grow sales teams with a unique approach to building bridges of communication between product and consumer. Driving brand growth with a focus on interpersonal style has helped him reach successes like growing a sales team by 47% over 16 months.
URL:https://rainbowregistered.com/event/unleash-the-power-of-linkedin-with-our-exclusive-masterclass/
CATEGORIES:Certified Supplier,Corporate Partner,National,OUT For Business,Rainbow Registered
ATTACH;FMTTYPE=image/png:https://rainbowregistered.com/wp-content/uploads/sites/2/sites/8/2026/01/Webinar-Wednesdays-1-jYqgVl.tmp_.png
END:VEVENT
BEGIN:VEVENT
DTSTART;TZID=America/Vancouver:20231101T000000
DTEND;TZID=America/Vancouver:20231231T235900
DTSTAMP:20260425T023450
CREATED:20260106T194205Z
LAST-MODIFIED:20260106T194205Z
UID:10000035-1698796800-1704067140@rainbowregistered.com
SUMMARY:What’s the Buzz? The Latest from Rainbow Registered
DESCRIPTION:Date: July 25\, 2023 12:00 pm – July 25\, 2023 1:00 pm EDT \n\n\n\n\n\n\n\nPLEASE NOTE: This event is open to businesses that are presently accredited in the Rainbow Registered program or those who have submitted their program application. \n\n\n\nJoin us for the latest updates on all of our activities\, opportunities for education\, networking and best practice sharing. \n\n\n\nDuring this session we may: \n\n\n\n\nGive updates on the program\, including PR and marketing efforts.\n\n\n\nShare best practices on maximizing your Rainbow Registered accreditation.\n\n\n\nHighlight other programs offered by the CQCC\, including membership benefits\, the Certified Supplier Program\, and training opportunities.\n\n\n\nProvide an opportunity to connect and network with other Rainbow Registered businesses.\n\n\n\n\nWe will make time at the end for any questions and comments you may have.   \n\n\n\nRegister today to learn more! \n\n\n\n\nRegister Here
URL:https://rainbowregistered.com/event/whats-the-buzz-the-latest-from-rainbow-registered-2/
CATEGORIES:Rainbow Registered
ATTACH;FMTTYPE=image/jpeg:https://rainbowregistered.com/wp-content/uploads/sites/2/sites/8/2026/01/WHATs-the-buzz-3-2H0y1g.tmp_-5.jpg
END:VEVENT
BEGIN:VEVENT
DTSTART;TZID=America/Vancouver:20231101T000000
DTEND;TZID=America/Vancouver:20231231T235900
DTSTAMP:20260425T023450
CREATED:20260106T194202Z
LAST-MODIFIED:20260106T194202Z
UID:10000034-1698796800-1704067140@rainbowregistered.com
SUMMARY:What’s the Buzz? The Latest from Rainbow Registered
DESCRIPTION:Date: August 23\, 2023 12:00 pm – August 23\, 2023 1:00 pm EDT \n\n\n\n\n\n\n\nPLEASE NOTE: This event is open to businesses that are presently accredited in the Rainbow Registered program or those who have submitted their program application. Join us for the latest updates on all of our activities\, opportunities for education\, networking and best practice sharing.   \n\n\n\nPlease sign up if you:  \n\n\n\n\nAre a Rainbow Registered accredited business or organization.\n\n\n\nAre a current CQCC member who wants to learn about the benefits of becoming a Rainbow Registered business or organization. \n\n\n\nAre a business or organization who is considering becoming a Rainbow Registered business or organization.\n\n\n\n\nDuring this session we will: \n\n\n\n\nGive updates on the program\, including PR and marketing efforts.\n\n\n\nShare best practices on maximizing your Rainbow Registered accreditation.\n\n\n\nHighlight other programs offered by the CQCC\, including membership benefits\, the Certified Supplier Program\, and training opportunities.\n\n\n\nProvide an opportunity to connect and network with other Rainbow Registered businesses.\n\n\n\n\nWe will make time at the end for any questions and comments you may have.   \n\n\n\nRegister today to learn more! \n\n\n\n\nRegister Here
URL:https://rainbowregistered.com/event/whats-the-buzz-the-latest-from-rainbow-registered/
CATEGORIES:Rainbow Registered
ATTACH;FMTTYPE=image/jpeg:https://rainbowregistered.com/wp-content/uploads/sites/2/sites/8/2026/01/WHATs-the-buzz-3-2H0y1g.tmp_-4.jpg
END:VEVENT
BEGIN:VEVENT
DTSTART;TZID=America/Vancouver:20231101T000000
DTEND;TZID=America/Vancouver:20231231T235900
DTSTAMP:20260425T023450
CREATED:20260106T194159Z
LAST-MODIFIED:20260106T194159Z
UID:10000033-1698796800-1704067140@rainbowregistered.com
SUMMARY:What’s the Buzz? The Latest from Rainbow Registered (October 2023)
DESCRIPTION:Date: October 24\, 2023 12:00 pm – October 24\, 2023 1:00 pm ET \n\n\n\n\n\n\n\nPLEASE NOTE: This event is open to businesses that are presently accredited in the Rainbow Registered program or those who have submitted their program application. Join us for the latest updates on all of our activities\, opportunities for education\, networking and best practice sharing.   \n\n\n\nDuring this session we will: \n\n\n\n\nGive updates on the program\, including PR and marketing efforts.\n\n\n\nShare best practices on maximizing your Rainbow Registered accreditation.\n\n\n\nHighlight other programs offered by the CQCC\, including membership benefits\, the Certified Supplier Program\, and training opportunities.\n\n\n\nProvide an opportunity to connect and network with other Rainbow Registered businesses.\n\n\n\n\nWe will make time at the end for any questions and comments you may have.   \n\n\n\nImportant: Registration link for this session will be sent to all eligible businesses via e-mail in advance.
URL:https://rainbowregistered.com/event/whats-the-buzz-the-latest-from-rainbow-registered-october-2023/
CATEGORIES:Rainbow Registered
ATTACH;FMTTYPE=image/jpeg:https://rainbowregistered.com/wp-content/uploads/sites/2/sites/8/2026/01/WHATs-the-buzz-3-2H0y1g.tmp_-3.jpg
END:VEVENT
BEGIN:VEVENT
DTSTART;TZID=America/Vancouver:20231101T000000
DTEND;TZID=America/Vancouver:20231231T235900
DTSTAMP:20260425T023450
CREATED:20260106T194153Z
LAST-MODIFIED:20260106T194153Z
UID:10000031-1698796800-1704067140@rainbowregistered.com
SUMMARY:What’s the Buzz? The Latest from Rainbow Registered (September 2023)
DESCRIPTION:Date: September 26\, 2023 12:00 pm – September 26\, 2023 1:00 pm ET \n\n\n\n\n\n\n\nPLEASE NOTE: This event is open to businesses that are presently accredited in the Rainbow Registered program or those who have submitted their program application. Join us for the latest updates on all of our activities\, opportunities for education\, networking and best practice sharing.   \n\n\n\nDuring this session we will: \n\n\n\n\nGive updates on the program\, including PR and marketing efforts.\n\n\n\nShare best practices on maximizing your Rainbow Registered accreditation.\n\n\n\nHighlight other programs offered by the CQCC\, including membership benefits\, the Certified Supplier Program\, and training opportunities.\n\n\n\nProvide an opportunity to connect and network with other Rainbow Registered businesses.\n\n\n\n\nWe will make time at the end for any questions and comments you may have.   \n\n\n\nImportant: Registration link for this session will be sent to all eligible businesses via e-mail in advance.
URL:https://rainbowregistered.com/event/whats-the-buzz-the-latest-from-rainbow-registered-september-2023/
CATEGORIES:Rainbow Registered
ATTACH;FMTTYPE=image/jpeg:https://rainbowregistered.com/wp-content/uploads/sites/2/sites/8/2026/01/WHATs-the-buzz-3-2H0y1g.tmp_-2.jpg
END:VEVENT
BEGIN:VEVENT
DTSTART;TZID=America/Vancouver:20231101T000000
DTEND;TZID=America/Vancouver:20231231T235900
DTSTAMP:20260425T023450
CREATED:20260106T194132Z
LAST-MODIFIED:20260106T194132Z
UID:10000028-1698796800-1704067140@rainbowregistered.com
SUMMARY:Navigating 2SLGBTQI+ Diversity & Inclusion in the Tourism Industry – Webinar (Sept 20th\, 2023)
DESCRIPTION:Date: September 20\, 2023 12:00 pm – September 20\, 2023 2:30 pm ET \n\n\n\n\n\n\n\nThe global 2SLGBTQI+ market is significant and ever-growing. To tap into this potential\, businesses must ensure that 2SLGBTQI+ staff and customers feel welcomed\, accepted\, and are provided with services that exceed their expectations and cater to their needs. \n\n\n\nTo bolster initiatives in fostering inclusive environments\, CQCC’s Navigating 2SLGBTQI+ Diversity and Inclusion program educates businesses on 2SLGBTQI+ inclusion. The goal is to help businesses effectively understand\, value\, and serve the 2SLGBTQI+ community. \n\n\n\nThis training is delivered as a workshop webinar\, live via Zoom. \n\n\n\n\nRegister Here
URL:https://rainbowregistered.com/event/navigating-2slgbtqi-diversity-inclusion-in-the-tourism-industry-webinar-sept-20th-2023/
CATEGORIES:Certified Supplier,Corporate Partner,National,Rainbow Registered
ATTACH;FMTTYPE=image/png:https://rainbowregistered.com/wp-content/uploads/sites/2/sites/8/2026/01/RR-website-cover-images-3-6iw8WN.tmp_.png
END:VEVENT
BEGIN:VEVENT
DTSTART;TZID=America/Vancouver:20231101T000000
DTEND;TZID=America/Vancouver:20231231T235900
DTSTAMP:20260425T023450
CREATED:20260106T194129Z
LAST-MODIFIED:20260106T194129Z
UID:10000027-1698796800-1704067140@rainbowregistered.com
SUMMARY:CQCC Members-Only Webinar | Growing your business with the Canadian Small Business Financing Loan
DESCRIPTION:Date: October 11\, 2023 11:00 am – October 11\, 2023 12:00 pm  \n\n\n\n\n\n\n\nLearn how to start or expand your business with the Canadian Small Business Financing Loan Program (CSBFL). CSBFL is a treat financing option through TD and the Government of Canada to help small business owners that can help fund many aspects of their business needs.   \n\n\n\nTakeaways: You will learn how the program works\, the qualification criteria\, and how it can help your business needs. \n\n\n\n\nRegister Here\n\n\n\n\n\n\n\n\nYour speaker
URL:https://rainbowregistered.com/event/cqcc-members-only-webinar-growing-your-business-with-the-canadian-small-business-financing-loan/
CATEGORIES:Certified Supplier,Corporate Partner,National,National (Voting),OUT For Business,Rainbow Registered
ATTACH;FMTTYPE=image/png:https://rainbowregistered.com/wp-content/uploads/sites/2/sites/8/2026/01/Webinar-Wednesdays-webbanne-LA0kYj.tmp_-1.png
END:VEVENT
BEGIN:VEVENT
DTSTART;TZID=America/Vancouver:20231101T000000
DTEND;TZID=America/Vancouver:20231231T235900
DTSTAMP:20260425T023450
CREATED:20260106T194113Z
LAST-MODIFIED:20260106T194113Z
UID:10000026-1698796800-1704067140@rainbowregistered.com
SUMMARY:Meet the Buyer – Sonami
DESCRIPTION:Companies in the manufacturing industry\, SONAMI can support you with your R&D Leverage SONAMI support and partner with a post-secondary institution \n\n\n\n\n\n\n\nCanadian companies within the manufacturing industry\, did you know you can get access to federal funding\, expertise from post-secondary institutions\, and state-of-the-art equipment through the Southern Ontario Network for Advanced Manufacturing Innovation (SONAMI)? \n\n\n\nLet SONAMI be your in-house research and development (R&D) team. \n\n\n\nSONAMI is a Niagara College-led network of eleven post-secondary institutions\, who\, through their respective Research and Innovation Centres\, collaborate with small- and medium-sized companies to tackle their manufacturing-related challenges. \n\n\n\nWhy should you leverage support from SONAMI? \n\n\n\n\n1:1.2 match for company cash and in-kind contributions\n\nFor example: 10K invested into the project by SONAMI\, and $12K financed by the company (20% should be in cash the rest can be in-kind or cash)\n\n\n\n\n\nCompanies keep their Intellectual Property (IP)\n\n\n\nStreamlined application process (no long application form\, just contact SONAMI)\n\n\n\nCompanies approach with a concept and/or challenge\, then researchers develop and test innovative solutions that meet the manufacturer’s requirements\n\n\n\nNo administrative or compliance hassles\n\n\n\nServes companies in all of Canada\n\n\n\nContinual intake process\n\n\n\n\nCapabilities include:  \n\n\n\n\nautomation \n\n\n\nadditive manufacturing technologies \n\n\n\nproduct testing & validation\n\n\n\ninformation & communication technology (including cyber security)\n\n\n\nprocess optimization\n\n\n\nsimulation & modelling\n\n\n\ncommercialization and intellectual property protection support\, and many more\n\n\n\n\nYour company may be a good fit to work with SONAMI\, even though your challenge does not neatly fit with the capabilities mentioned above. For example\, SONAMI can help companies: \n\n\n\n\nreduce the carbon footprint in their packaging\n\n\n\nthat do not manufacture products\, but serve manufacturing companies\n\n\n\nprotect critical business data and information\n\n\n\n\nContact Mitchell Lutz\, Business Development Lead at SONAMI mlutz@niagaracollege.ca to discuss how you can leverage assistance from SONAMI for challenges your company is facing.  \n\n\n\nLearn more on SONAMI’s website. \n\n\n\n\n\n\n\nWatch a quick overview of SONAMI: \n\n\n\n\n\n\n\n\n\n\n\n\n\nYour speaker\n\n\n\n\n\nInterested in learning more about some of our Corporate Partners? This is the perfect opportunity to meet some of our partners at the CQCC and see what they are specifically looking for in procurement.  \n\n\n\nPlease note that our Meet The Buyer sessions are for certified diverse suppliers only – for more information on becoming a certified supplier with CQCC\, click here or email us at supplierdiversity@queerchamber.ca.
URL:https://rainbowregistered.com/event/meet-the-buyer-sonami/
CATEGORIES:Certified Supplier,National,OUT For Business,Rainbow Registered
ATTACH;FMTTYPE=image/png:https://rainbowregistered.com/wp-content/uploads/sites/2/sites/8/2026/01/Meet-The-Buyer-2023-2-elxmbA.tmp_-scaled.png
END:VEVENT
END:VCALENDAR