BEGIN:VCALENDAR
VERSION:2.0
PRODID:-//Rainbow Registered - ECPv6.15.20//NONSGML v1.0//EN
CALSCALE:GREGORIAN
METHOD:PUBLISH
X-ORIGINAL-URL:https://rainbowregistered.com
X-WR-CALDESC:Events for Rainbow Registered
REFRESH-INTERVAL;VALUE=DURATION:PT1H
X-Robots-Tag:noindex
X-PUBLISHED-TTL:PT1H
BEGIN:VTIMEZONE
TZID:America/Toronto
BEGIN:DAYLIGHT
TZOFFSETFROM:-0500
TZOFFSETTO:-0400
TZNAME:EDT
DTSTART:20250309T070000
END:DAYLIGHT
BEGIN:STANDARD
TZOFFSETFROM:-0400
TZOFFSETTO:-0500
TZNAME:EST
DTSTART:20251102T060000
END:STANDARD
BEGIN:DAYLIGHT
TZOFFSETFROM:-0500
TZOFFSETTO:-0400
TZNAME:EDT
DTSTART:20260308T070000
END:DAYLIGHT
BEGIN:STANDARD
TZOFFSETFROM:-0400
TZOFFSETTO:-0500
TZNAME:EST
DTSTART:20261101T060000
END:STANDARD
BEGIN:DAYLIGHT
TZOFFSETFROM:-0500
TZOFFSETTO:-0400
TZNAME:EDT
DTSTART:20270314T070000
END:DAYLIGHT
BEGIN:STANDARD
TZOFFSETFROM:-0400
TZOFFSETTO:-0500
TZNAME:EST
DTSTART:20271107T060000
END:STANDARD
END:VTIMEZONE
BEGIN:VEVENT
DTSTART;TZID=America/Toronto:20260430T120000
DTEND;TZID=America/Toronto:20260430T133000
DTSTAMP:20260425T050215
CREATED:20260416T163850Z
LAST-MODIFIED:20260416T163850Z
UID:10000072-1777550400-1777555800@rainbowregistered.com
SUMMARY:Rainbow Registered Presents: GENDERCRAFT
DESCRIPTION:A Deeper Dive on Gender Identity & Gender Expression\n\n\n\n\n\nGender Identity Fundamentals \n\n\n\nThis module is primarily concerned with deepening understanding of the term “gender identity”. It discusses five major components of gender identity: sense of self\, community identity\, societal influences\, biology\, and time. \n\n\n\nThe module proceeds to discuss intersectionality and the ways gender interacts with other aspects of identity. There is a brief discussion of pronouns\, and the distinction between pronouns and identity. The module continues with a detailed examination of cisgender privilege\, to ground the theoretical discussion and prepare participants to explore the scenarios in Module II.  \n\n\n\nGender Identity Fundamentals concludes by addressing current political context for trans people internationally and nationally\, and possible actions. \n\n\n\n\n\nEliot Newton (they|them)GENDERBANDIT\n\n\n\nSeries schedule:April 30\, 2026 – 1-2:30pm AST – Gender Identity FundamentalsMay 7\, 2026 – 1-2:30pm AST – Gender Identity ApplicationsMay 21 2026 – 1-2:30pm AST – Gender Expression FundamentalsMay 28\, 2026 – 1-2:30pm AST – Gender Expression Applications \n\n\n\nNote: facilitator is bilingual though facilitation will be primarily in EN
URL:https://rainbowregistered.com/event/rainbow-registered-presents-gendercraft-8/
CATEGORIES:Rainbow Registered
ATTACH;FMTTYPE=image/png:https://rainbowregistered.com/wp-content/uploads/sites/2/sites/8/2026/04/1.png
ORGANIZER;CN="Rainbow Registered":MAILTO:rainbowregistered@queerchamber.ca
END:VEVENT
END:VCALENDAR