BEGIN:VCALENDAR
VERSION:2.0
PRODID:-//Arc-en-ciel Officiel - ECPv6.15.20//NONSGML v1.0//EN
CALSCALE:GREGORIAN
METHOD:PUBLISH
X-ORIGINAL-URL:https://rainbowregistered.com/fr
X-WR-CALDESC:Events for Arc-en-ciel Officiel
REFRESH-INTERVAL;VALUE=DURATION:PT1H
X-Robots-Tag:noindex
X-PUBLISHED-TTL:PT1H
BEGIN:VTIMEZONE
TZID:America/Toronto
BEGIN:DAYLIGHT
TZOFFSETFROM:-0500
TZOFFSETTO:-0400
TZNAME:EDT
DTSTART:20240310T070000
END:DAYLIGHT
BEGIN:STANDARD
TZOFFSETFROM:-0400
TZOFFSETTO:-0500
TZNAME:EST
DTSTART:20241103T060000
END:STANDARD
BEGIN:DAYLIGHT
TZOFFSETFROM:-0500
TZOFFSETTO:-0400
TZNAME:EDT
DTSTART:20250309T070000
END:DAYLIGHT
BEGIN:STANDARD
TZOFFSETFROM:-0400
TZOFFSETTO:-0500
TZNAME:EST
DTSTART:20251102T060000
END:STANDARD
BEGIN:DAYLIGHT
TZOFFSETFROM:-0500
TZOFFSETTO:-0400
TZNAME:EDT
DTSTART:20260308T070000
END:DAYLIGHT
BEGIN:STANDARD
TZOFFSETFROM:-0400
TZOFFSETTO:-0500
TZNAME:EST
DTSTART:20261101T060000
END:STANDARD
END:VTIMEZONE
BEGIN:VEVENT
DTSTART;TZID=America/Toronto:20251203T130000
DTEND;TZID=America/Toronto:20251203T140000
DTSTAMP:20260425T051806
CREATED:20260106T194537Z
LAST-MODIFIED:20260113T212532Z
UID:10000001-1764766800-1764770400@rainbowregistered.com
SUMMARY:Quel est le buzz – Transformer la sensibilisation en action : l’atelier sur l’inclusion appliquée
DESCRIPTION:Prêt à mettre l’inclusion dans la pratique quotidienne ? \n\n\n\nPour notre dernier « What’s the Buzz of the Year »\, nous sommes ravis d’accueillir à nouveau Rachel Glover (elle/elle)\, vice-présidente de l’apprentissage et du développement chez STEM Consulting et animatrice expérimentée en diversité\, équité et inclusion pour la deuxième partie de l’atelier Turning Awareness Into Action : The Applied Inclusion Workshop\, où nous nous concentrerons sur l’application de compétences inclusives par la discussion\,  Réflexion et apprentissage basé sur des scénarios. \n\n\n\nVous avez raté la première partie ? Aucun problème! Nous commencerons par un rappel rapide afin de nous assurer que chacun dispose des bases nécessaires à un apprentissage plus profond et appliqué. \n\n\n\nVous renforcerez votre capacité à répondre efficacement dans des situations complexes\, pratiquerez une communication inclusive et repartirez avec des prochaines étapes claires à mettre en pratique. \n\n\n\nPLUS — les participants recevront un cahier d’exercices numérique exclusif après l’atelier pour soutenir l’apprentissage continu
URL:https://rainbowregistered.com/fr/event/quel-est-le-buzz-qui-transforme-la-conscience-en-action-latelier-dinclusion-appliquee/
CATEGORIES:Rainbow Registered
ATTACH;FMTTYPE=image/png:https://rainbowregistered.com/fr/wp-content/uploads/sites/2/sites/9/2026/01/wtb-october-2025-1352-x-698-px-3-1.png
END:VEVENT
END:VCALENDAR